BEGIN:VCALENDAR
PRODID:-//eluceo/ical//2.0/EN
VERSION:2.0
CALSCALE:GREGORIAN
BEGIN:VEVENT
UID:a56b34e243a60c5f2ba85e827e79f68f
DTSTAMP:20260424T150706Z
SUMMARY:Havdalah & Board Games
DESCRIPTION:Jewish Federation of West-Central New Jersey\nCommunity Calenda
 r\nhttps://jfedwcnj.org/calendar/havdalah--board-games-1516295657\n\nJoin 
 Temple Sholom in celebrating the end of Shabbat with a community havdalah 
 and a board game night. This program is accessible and open to the entire 
 community\, for all ages. This program is part of the Temple Sholom progra
 mming for Jewish Disability Awareness and Inclusion month. Please contact 
 Ilene Cohen\, Director of Youth Education & Engagement for more informatio
 n at ilenecohen@temple-sholom.net
DTSTART;TZID=America/New_York:20180210T180000
DTEND;TZID=America/New_York:20180210T200000
END:VEVENT
END:VCALENDAR
