BEGIN:VCALENDAR
PRODID:-//eluceo/ical//2.0/EN
VERSION:2.0
CALSCALE:GREGORIAN
BEGIN:VEVENT
UID:67ddc8fbcaa432a001c02bc8e4b8ea32
DTSTAMP:20260423T133040Z
SUMMARY:HARLAN COBEN\, THE BOY FROM THE WOODS
DESCRIPTION:Jewish Federation of West-Central New Jersey\nCommunity Calenda
 r\nhttps://jfedwcnj.org/calendar/harlan-coben-the-boy-from-the-woods-16003
 57031\n\nA man with a mysterious past is asked to find a missing teenage g
 irl in this shocking thriller from the #1 New York Times bestselling autho
 r of Run Away. Thirty years ago\, Wilde was found as a boy living feral in
  the woods\, with no memory of his past. Now an adult\, he still doesn&rsq
 uo\;t know where he comes from\, and another child has gone missing. Naomi
  Pine&rsquo\;s disappearance is not taken seriously\, not even by her fath
 er &mdash\; but Hester Crimstein\, a television criminal attorney who know
 s through her...
DTSTART;TZID=America/New_York:20201025T200000
DTEND;TZID=America/New_York:20201025T210000
END:VEVENT
END:VCALENDAR
