BEGIN:VCALENDAR
PRODID:-//eluceo/ical//2.0/EN
VERSION:2.0
CALSCALE:GREGORIAN
BEGIN:VEVENT
UID:c92d87feac6028109e4cee904e9a49e5
DTSTAMP:20260421T171544Z
SUMMARY:Hamantaschen Baking
DESCRIPTION:Jewish Federation of West-Central New Jersey\nCommunity Calenda
 r\nhttps://jfedwcnj.org/calendar/hamantaschen-baking-1517166044\n\nFree to
  All! Purim commemorates the salvation of the Jewish people in ancient Per
 sia from Haman’s plot “to destroy all the Jews in a single day.” It 
 is customary for children to dress up in costumes\, read the megillah (The
  Book of Esther)\,which recounts the story of the Purim miracle\, give mon
 ey to the poor\, send gifts to friend\, and eat a festive Purim feast. Ham
 antaschen\, the traditional cookie of Purim\, are 3-sided triangular cooki
 es with jelly or chocolate filling. They represent th...
DTSTART;TZID=America/New_York:20180221T170000
DTEND;TZID=America/New_York:20180221T190000
END:VEVENT
END:VCALENDAR
