BEGIN:VCALENDAR
PRODID:-//eluceo/ical//2.0/EN
VERSION:2.0
CALSCALE:GREGORIAN
BEGIN:VEVENT
UID:7d85617bd75f4cfe7db7d89fe5c6dd3a
DTSTAMP:20260424T084041Z
SUMMARY:Hamantaschen Bake
DESCRIPTION:Jewish Federation of West-Central New Jersey\nCommunity Calenda
 r\nhttps://jfedwcnj.org/calendar/hamantaschen-bake\n\nMingle\, Eat\, Drink
  and Enjoy!\n\n\nSnacks Provided\nBYOB\n\n\nPrepare Hamantaschen to Bake a
 t Home.\n\nPlus… DIY Charcuterie Board.\n\n\nDecorate and learn how to p
 late a charcuterie board.
DTSTART;TZID=America/New_York:20220310T183000
DTEND;TZID=America/New_York:20220310T220000
END:VEVENT
END:VCALENDAR
