BEGIN:VCALENDAR
PRODID:-//eluceo/ical//2.0/EN
VERSION:2.0
CALSCALE:GREGORIAN
BEGIN:VEVENT
UID:c2e7bc2d46c24ce6c775120e7496d2df
DTSTAMP:20260419T162126Z
SUMMARY:Hacklebarney Hike Fall Foliage Hike
DESCRIPTION:Jewish Federation of West-Central New Jersey\nCommunity Calenda
 r\nhttps://jfedwcnj.org/calendar/hacklebarney-hike-fall-foliage-hike\n\nCr
 unch through the leaves and breathe in the crisp autumn air on our Hackle
 barney Hike: Fall Foliage Adventure. Join us for a scenic hike through one
  of New Jersey’s most beautiful parks just as the leaves hit peak color.
  This guided trek is perfect for nature lovers\, leaf peepers\, and anyone
  looking to escape into the woods for a few hours of peace\, connection\, 
 and fresh air. Lace up your boots\, grab your water bottle\, and let’s h
 it the trail together. You bring the snacks\, we’ll brin...
DTSTART;TZID=America/New_York:20251004T120000
DTEND;TZID=America/New_York:20251004T140000
END:VEVENT
END:VCALENDAR
