BEGIN:VCALENDAR
PRODID:-//eluceo/ical//2.0/EN
VERSION:2.0
CALSCALE:GREGORIAN
BEGIN:VEVENT
UID:d5e0bb8353cfdd38359fb4d064cc408b
DTSTAMP:20260421T034338Z
SUMMARY:Gubernatorial Appointment Process
DESCRIPTION:Jewish Federation of West-Central New Jersey\nCommunity Calenda
 r\nhttps://jfedwcnj.org/calendar/gubernatorial-appointment-process\n\nMuch
  of New Jersey state policy is influenced by its more than 1\,100 boards\,
  commissions\, and authorities. These groups touch virtually all aspects o
 f our everyday lives and therefore have significant impact on Federations
 ’ work in the state.\n\nPlease join Jewish Federations of New Jersey on 
 Tuesday\, July 26\, 12pm - 1 pm to learn about New Jersey’s appointments
  process from Samantha Parker\, Director of Appointments for Governor Murp
 hy.\n\nMs. Parker will educate participants about the ap...
DTSTART;TZID=America/New_York:20220726T120000
DTEND;TZID=America/New_York:20220726T130000
END:VEVENT
END:VCALENDAR
