BEGIN:VCALENDAR
PRODID:-//eluceo/ical//2.0/EN
VERSION:2.0
CALSCALE:GREGORIAN
BEGIN:VEVENT
UID:5d976a7da844fae783ed9e1bd9b73935
DTSTAMP:20260421T071752Z
SUMMARY:Grounds for Sculpture Tour
DESCRIPTION:Jewish Federation of West-Central New Jersey\nCommunity Calenda
 r\nhttps://jfedwcnj.org/calendar/grounds-for-sculpture-tour-1464361965\n\n
 Tour the Grounds! Be amazed by the sculptures! We will leave the JCC at 9:
 30 am and return at approximately 2:30 pm. Fee is $30/person. This include
 s bus\, admission to the grounds\, and guided tour. Lunch is on your own. 
 Register at the Welcome Center or call 908.725.6994 x201.
DTSTART;TZID=America/New_York:20160609T093000
DTEND;TZID=America/New_York:20160609T143000
END:VEVENT
END:VCALENDAR
