BEGIN:VCALENDAR
PRODID:-//eluceo/ical//2.0/EN
VERSION:2.0
CALSCALE:GREGORIAN
BEGIN:VEVENT
UID:78b2165c0559af38d69398e0041d3474
DTSTAMP:20260423T030242Z
SUMMARY:Greater Jersey BBYO J-Serve
DESCRIPTION:Jewish Federation of West-Central New Jersey\nCommunity Calenda
 r\nhttps://jfedwcnj.org/calendar/greater-jersey-bbyo-j-serve-1710432054\n\
 nJoin GJHRR BBYO for a day of service projects\, Jewish Learning and phila
 nthropy! More details to follow! It is free and open for any teen to join!
DTSTART;TZID=America/New_York:20240414T103000
DTEND;TZID=America/New_York:20240414T143000
END:VEVENT
END:VCALENDAR
