BEGIN:VCALENDAR
PRODID:-//eluceo/ical//2.0/EN
VERSION:2.0
CALSCALE:GREGORIAN
BEGIN:VEVENT
UID:a737e8b8f8bfbc3b00d28c7ec7b72f3a
DTSTAMP:20260420T064440Z
SUMMARY:Grandma Rowaida's Dark Secret from Kuwait to Jerusalem
DESCRIPTION:Jewish Federation of West-Central New Jersey\nCommunity Calenda
 r\nhttps://jfedwcnj.org/calendar/grandma-rowaidas-dark-secret-from-kuwait-
 to-jerusalem\n\n"My Grandma Rowaida's Dark Secret\," My Journey from Kuwa
 iti Arab to Jerusalemite Jew. Mark Halawa will share his riveting story\, 
 exploring his arduous journey from Kuwait to Jerusalem.
DTSTART;TZID=America/New_York:20151106T184500
DTEND;TZID=America/New_York:20151106T214500
END:VEVENT
END:VCALENDAR
