BEGIN:VCALENDAR
PRODID:-//eluceo/ical//2.0/EN
VERSION:2.0
CALSCALE:GREGORIAN
BEGIN:VEVENT
UID:6f4e0e0b61fb3ffed0d7c642ff69c136
DTSTAMP:20260423T035719Z
SUMMARY:Goucher Disease Discussion with Ginger Nathanson
DESCRIPTION:Jewish Federation of West-Central New Jersey\nCommunity Calenda
 r\nhttps://jfedwcnj.org/calendar/goucher-disease-discussion-with-ginger-na
 thanson\n\nJoin us as JCNWJ memeber\, Ginger Nathanson\, shares her person
 al story of life with Gaucher Disease\, the singal most prevalent "Jewish 
 Genetic Disease."During her talk\, Ginger (a retired biology instructor) w
 ill explain how this disease is inherited\, diagnosed \, and most importan
 taly treated. 
DTSTART;TZID=America/New_York:20211114T190000
DTEND;TZID=America/New_York:20211114T210000
END:VEVENT
END:VCALENDAR
