BEGIN:VCALENDAR
PRODID:-//eluceo/ical//2.0/EN
VERSION:2.0
CALSCALE:GREGORIAN
BEGIN:VEVENT
UID:9ef387c03baf3056790a34af3d41d889
DTSTAMP:20260423T233605Z
SUMMARY:Golf\, Tennis\, and Pickleball Tournament
DESCRIPTION:Jewish Federation of West-Central New Jersey\nCommunity Calenda
 r\nhttps://jfedwcnj.org/calendar/golf-tennis-and-pickleball-tournament\n\n
 Sponsorship Opportunities Available\n\n\nGolf Tournament\, includes lunch\
 , dinner\, open bar. Tournament benefits the JCC Sustainability Fund. \n\n
 \nSingle Golfer $345 by 8/1/23\; $365 after 8/1.\nFoursome: $1\,380 by 8/1
 /23\; $1\,460 after 8/1.\n\nTo register a foursome\, call Debbie 908-443-9
 003.\n\n\n\n\n \n\nSchedule:\n\n\n10:30AM-12:00PM: Registration\, Range t
 ime\, Lunch\n12:00PM: Shotgun Start (Scramble Format)\n5:00PM: Players Rec
 eption and Dinner\n\n\nRegister\n\n\n\nTennis Tournament ...
DTSTART;TZID=America/New_York:20230918T100000
DTEND;TZID=America/New_York:20230918T180000
END:VEVENT
END:VCALENDAR
