BEGIN:VCALENDAR
PRODID:-//eluceo/ical//2.0/EN
VERSION:2.0
CALSCALE:GREGORIAN
BEGIN:VEVENT
UID:e8b6eb36be683a5b1f6e6d78a2c17360
DTSTAMP:20260423T085610Z
SUMMARY:Golf Simcha  2016 - Livingston NJ
DESCRIPTION:Jewish Federation of West-Central New Jersey\nCommunity Calenda
 r\nhttps://jfedwcnj.org/calendar/golf-simcha--2016---livingston-nj-1471537
 477\n\nHEROIC Partisans & Pilots of WWII Honored  Frank Rubinstein & David
  Keisch  (Open to Military & General Public)- Honorary Chairman: Col Jack 
 Jacobs\, USA (R) Recipient Medal of Honor  - Archivist: Capt Alex Keisch\,
  Merchant Marines (R)\, Board of Trustees Virginia Holocaust Museum - Gues
 t Hazzan: Cantor Perry Fine\, Temple Beth Shalom\, Livingston\, NJ MC: H D
 avid Meyers\, Kennedy Center Performance Oboe Solist Guest Pianist: (TBA) 
 - When: September 8\, 2016 8AM Registration\, 9AM Tee Time\, Lunch 1PM...
DTSTART;TZID=America/New_York:20160908T080000
DTEND;TZID=America/New_York:20160908T150000
END:VEVENT
END:VCALENDAR
