BEGIN:VCALENDAR
PRODID:-//eluceo/ical//2.0/EN
VERSION:2.0
CALSCALE:GREGORIAN
BEGIN:VEVENT
UID:c059f6944e19b62f6190350a97f6a257
DTSTAMP:20260423T122409Z
SUMMARY:Golem! Rocking Klezmer Dance Party!
DESCRIPTION:Jewish Federation of West-Central New Jersey\nCommunity Calenda
 r\nhttps://jfedwcnj.org/calendar/golem-rocking-klezmer-dance-party-1538161
 168\n\nKlezmer-rock band Golem was founded by Annette Ezekiel Kogan in New
  York City in 2000. Since then\, the band has become a leading re-interpre
 ter and innovator of Yiddish and Eastern European music\, pushing traditio
 n forward into the 21st century. Golem performs nationally across the Unit
 ed States and internationally\, in clubs and festivals in France\, Germany
 \, Poland\, Sweden and Mexico. Golem is known for its virtuosic musiciansh
 ip\, theatricality\, humor and fearless wild energy\, combined with a...
DTSTART;TZID=America/New_York:20181103T200000
DTEND;TZID=America/New_York:20181103T220000
END:VEVENT
END:VCALENDAR
