BEGIN:VCALENDAR
PRODID:-//eluceo/ical//2.0/EN
VERSION:2.0
CALSCALE:GREGORIAN
BEGIN:VEVENT
UID:2af5cd79bde511d41b34b752a152f191
DTSTAMP:20260422T131401Z
SUMMARY:Golda Meir: A Biographical Sketch
DESCRIPTION:Jewish Federation of West-Central New Jersey\nCommunity Calenda
 r\nhttps://jfedwcnj.org/calendar/golda-meir-a-biographical-sketch-14867435
 20\n\nDr Pnina Lahav\, Boston University will draw on her current book pro
 ject\, Golda Meir: Through the Gender Lens\, to explore Meir’s leadershi
 p\, her political ideology\, how she reconciled career and family\, and he
 r position on women’s equality and the women’s movement. Pnina Lahav i
 s a professor of law and a core faculty member of the Elie Wiesel Center f
 or Jewish Studies at Boston University. She is the author of the criticall
 y acclaimed book Judgment in Jerusalem: Chief Justice Simon Agran...
DTSTART;TZID=America/New_York:20170327T193000
DTEND;TZID=America/New_York:20170327T210000
END:VEVENT
END:VCALENDAR
