BEGIN:VCALENDAR
PRODID:-//eluceo/ical//2.0/EN
VERSION:2.0
CALSCALE:GREGORIAN
BEGIN:VEVENT
UID:4f48ea7d68f0bb57c1a6e683bc7eb085
DTSTAMP:20260422T132900Z
SUMMARY:GLOBAL IMPACT THROUGH WATER SOLUTIONS
DESCRIPTION:Jewish Federation of West-Central New Jersey\nCommunity Calenda
 r\nhttps://jfedwcnj.org/calendar/global-impact-through-water-solutions\n\n
 Global Impact Through Water Solutions \n\n \n\nJoin Jewish Federation of
  Somerset\, Hunterdon & Warren Counties and the Shimon and Sara Birnbaum J
 CC to hear a special presentation from our partner in Israel\, JEWISH NATI
 ONAL FUND - USA\, on the work they do to improve citizens’ lives worldwi
 de with innovative water solutions.\n\n \n\nFree and open to the communit
 y.\n\nWine\, appetizers and desserts will be served.\n\n \n\nMarch 2nd 7p
 m \n\n775 Talamini Road\, Bridgewater\, NJ \n\n \n\nHost...
DTSTART;TZID=America/New_York:20230302T190000
DTEND;TZID=America/New_York:20230302T210000
END:VEVENT
END:VCALENDAR
