BEGIN:VCALENDAR
PRODID:-//eluceo/ical//2.0/EN
VERSION:2.0
CALSCALE:GREGORIAN
BEGIN:VEVENT
UID:c2c5c5ee9e792c6bbd16d0a612fb6072
DTSTAMP:20260423T124036Z
SUMMARY:Glenn Kurtz: Three Minutes in Poland 
DESCRIPTION:Jewish Federation of West-Central New Jersey\nCommunity Calenda
 r\nhttps://jfedwcnj.org/calendar/glenn-kurtz-three-minutes-in-poland-14151
 18165\n\nGlenn Kurtz: Three Minutes in Poland Discovering a Lost World in 
 a 1938 Family Film:Five years ago\, Glenn Kurtz discovered three minutes o
 f color footage film shot by his grandfather on a 1938 trip to the Polish 
 village of Nasielsk. Glenn’s grandfather inadvertently captured a world 
 that ceased to exist just one year later. Of Nasielsk’s approximately 3\
 ,000 Jews\, fewer than 100 survived the war.When Glenn showed the footage 
 to an archivist at the United States Holocaust Memorial Museum (U...
DTSTART;TZID=America/New_York:20150319T190000
DTEND;TZID=America/New_York:20150319T210000
END:VEVENT
END:VCALENDAR
