BEGIN:VCALENDAR
PRODID:-//eluceo/ical//2.0/EN
VERSION:2.0
CALSCALE:GREGORIAN
BEGIN:VEVENT
UID:a61bb9edbe1cae495de6c79988091a13
DTSTAMP:20260424T221357Z
SUMMARY:Giving Tuesday: Soup for the Soul
DESCRIPTION:Jewish Federation of West-Central New Jersey\nCommunity Calenda
 r\nhttps://jfedwcnj.org/calendar/giving-tuesday-soup-for-the-soul\n\nSoup 
 for the Soul with JFS! Share a bowl of soup\, learn about food insecurity 
 and social isolation amon the elderly in our community & raise funds to er
 adicate these issues.\n\nOpen and free to the community! A part of the Sup
 er Week events leading up to Super Sunday\, December 3! Please Register on
 line!\n\n 
DTSTART;TZID=America/New_York:20171128T180000
DTEND;TZID=America/New_York:20171128T200000
END:VEVENT
END:VCALENDAR
