BEGIN:VCALENDAR
PRODID:-//eluceo/ical//2.0/EN
VERSION:2.0
CALSCALE:GREGORIAN
BEGIN:VEVENT
UID:1904aeea3b3f02986f0d77b9c97ea1a2
DTSTAMP:20260422T095343Z
SUMMARY:Getting Good at Getting Older: A Conversation with Rabbi Laura Gell
 er
DESCRIPTION:Jewish Federation of West-Central New Jersey\nCommunity Calenda
 r\nhttps://jfedwcnj.org/calendar/getting-good-at-getting-older-a-conversat
 ion-with-rabbi-laura-geller-1644609471\n\nGetting Good at Getting Older is
  a tour for all those of "a certain age" through the resources and skills 
 needed to navigate the years between maturity (building careers/raising fa
 milies) and frail old age. It brings humor\, warmth\, and more than 4\,000
  years of Jewish experience to the question of how to shape this new stage
  of life.
DTSTART;TZID=America/New_York:20220303T190000
DTEND;TZID=America/New_York:20220303T210000
END:VEVENT
END:VCALENDAR
