BEGIN:VCALENDAR
PRODID:-//eluceo/ical//2.0/EN
VERSION:2.0
CALSCALE:GREGORIAN
BEGIN:VEVENT
UID:7ccae1b5fe85335acf0f91e9f4ecb870
DTSTAMP:20260421T070759Z
SUMMARY:Genocide Prevention: A 21st-Century Challenge -Week 4
DESCRIPTION:Jewish Federation of West-Central New Jersey\nCommunity Calenda
 r\nhttps://jfedwcnj.org/calendar/genocide-prevention-a-21st-century-challe
 nge-week-4\n\nJoining us for Genocide Awareness Month\, Dr Ellen Kennedy
 \, Executive Director of World Without Genocide\, will be offering an onli
 ne series addressing current-day genocides. Students and community members
  will learn about the geography and events that unfolded to lead to the si
 tuations being confronted today. To register\, please use the following li
 nk: https://raritanval-edu.zoom.us/webinar/register/WN_LPnA06a9Spahoseuu4
 cuig#/registration
DTSTART;TZID=America/New_York:20240426T100000
DTEND;TZID=America/New_York:20240426T110000
END:VEVENT
END:VCALENDAR
