BEGIN:VCALENDAR
PRODID:-//eluceo/ical//2.0/EN
VERSION:2.0
CALSCALE:GREGORIAN
BEGIN:VEVENT
UID:6ef811de0cefa34971f550ee3d94007c
DTSTAMP:20260423T065237Z
SUMMARY:Generation Friends: An Inside Look at the Show that Defined a Telev
 ison Era
DESCRIPTION:Jewish Federation of West-Central New Jersey\nCommunity Calenda
 r\nhttps://jfedwcnj.org/calendar/generation-friends-an-inside-look-at-the-
 show-that-defined-a-televison-era\n\nA fascinating behind-the-scenes look 
 at Friends\, published for the twenty-fifth anniversary of the show’s pr
 emiere. Howyoudoin’?\n\nIn September 1994\, six friends sat down in thei
 r favorite coffee shop and began bantering about sex\, relationships\, job
 s\, and just about everything else. A quarter of a century later\, new fan
 s are still finding their way into the lives of Rachel\, Ross\, Joey\, Cha
 ndler\, Monica\, and Phoebe. Thanks to the show’s immensely talented cre
 ators\, its intimate underst...
DTSTART;TZID=America/New_York:20200130T190000
DTEND;TZID=America/New_York:20200130T210000
END:VEVENT
END:VCALENDAR
