BEGIN:VCALENDAR
PRODID:-//eluceo/ical//2.0/EN
VERSION:2.0
CALSCALE:GREGORIAN
BEGIN:VEVENT
UID:2d44812165957952a8b857d38a1b70d8
DTSTAMP:20260422T083022Z
SUMMARY:Gateway to the Moon
DESCRIPTION:Jewish Federation of West-Central New Jersey\nCommunity Calenda
 r\nhttps://jfedwcnj.org/calendar/gateway-to-the-moon-1538073306\n\nIn 1492
 \, the Jewish and Muslim populations of Spain were expelled\, and Columbus
  set sail for America. Luis de Torres\, a Spanish Jew\, accompanies Columb
 us as his interpreter. Over the centuries\, de Torres' descendants travel 
 from Spain and Portugal to Mexico\, finally settling in the hills of New M
 exico. Interwoven throughout the present-day narrative are the powerful st
 ories of the ancestors of Entrada's residents\, highlighting the torture\,
  pursuit and resistance of the Jewish people. A beauti...
DTSTART;TZID=America/New_York:20181015T180000
DTEND;TZID=America/New_York:20181015T200000
END:VEVENT
END:VCALENDAR
