BEGIN:VCALENDAR
PRODID:-//eluceo/ical//2.0/EN
VERSION:2.0
CALSCALE:GREGORIAN
BEGIN:VEVENT
UID:82d2176cbcbf2089f9ec058ac523ee5d
DTSTAMP:20260423T093810Z
SUMMARY:From Swastika to Jim Crow an Online Discussion with Dr. Lillie Edwa
 rds
DESCRIPTION:Jewish Federation of West-Central New Jersey\nCommunity Calenda
 r\nhttps://jfedwcnj.org/calendar/from-swastika-to-jim-crow-an-online-discu
 ssion-with-dr-lillie-edwards\n\nThis presentation\, facilitated by Dr. Lil
 lie Edwards\,  broadens our understanding of the film previously presente
 d\, From Swastika to Jim Crow. This film tells the story of German-Jewish
  refugee scholars\, who\, expelled from their German universities by Hitle
 r and the Nazis\, found positions at Historically Black Colleges and unive
 rsities in the American South. Dr. Edwards’s lecture will explore the in
 ternational\, national\, institutional\, and personal histories that conne
 cted Jewish refugee ...
DTSTART;TZID=America/New_York:20210924T100000
DTEND;TZID=America/New_York:20210924T110000
END:VEVENT
END:VCALENDAR
