BEGIN:VCALENDAR
PRODID:-//eluceo/ical//2.0/EN
VERSION:2.0
CALSCALE:GREGORIAN
BEGIN:VEVENT
UID:17f7dbf1291031e21c2c2844cc27fc3d
DTSTAMP:20260422T091608Z
SUMMARY:FROM SHUK TO SHORE – BRINGING ISRAEL TO NJ\, COOKING WITH SHANNON
  SARNA
DESCRIPTION:Jewish Federation of West-Central New Jersey\nCommunity Calenda
 r\nhttps://jfedwcnj.org/calendar/from-shuk-to-shore-bringing-israel-to-nj-
 cooking-with-shannon-sarna\n\nJoin chef Shannon Sarna the editor of The No
 sher\, a popular Jewish Food Blog\, author of Modern Jewish Baker\, and Co
 -Host of the Podcast Call Your Mother.  She is known as the Pro-Gluton Ca
 rb Queen\, Queen of Challah\, and Latte Addict.\n\nChef Shannon will teach
  us how to make one of Israel’s most popular foods – Bourekas!\n\nA de
 licious and fun evening bringing a taste of Israel into our home in celebr
 ation of Yom Ha’Atzmaut\, Israel’ 73 birthday.\n\nBourekas Me Happy!!!
 !\n...
DTSTART;TZID=America/New_York:20210412T193000
DTEND;TZID=America/New_York:20210412T213000
END:VEVENT
END:VCALENDAR
