BEGIN:VCALENDAR
PRODID:-//eluceo/ical//2.0/EN
VERSION:2.0
CALSCALE:GREGORIAN
BEGIN:VEVENT
UID:a2ceb86b05112a5c98c55ab982b992a3
DTSTAMP:20260422T225915Z
SUMMARY:From Russia With Love at Temple Sholom
DESCRIPTION:Jewish Federation of West-Central New Jersey\nCommunity Calenda
 r\nhttps://jfedwcnj.org/calendar/from-russia-with-love-at-temple-sholom-15
 21661596\n\nFrom Russia with Love\nEnjoy an evening of food and song as we
  celebrate\nCantor Yucht’s 20 Years in America\nFeast on an authentic Ru
 ssian dinner starting with blinis\, caviar\, Matias (herring)\, black brea
 d and vodka.\n\nMain courses include beef\, lamb\, chicken\, with special 
 salads\,\nBukharian rice pilaf and rice-vegetables patties\n\nDinner is fo
 llowed by a Cantorial Concert\nwith our own Cantor Yucht\, along with four
  distinguished guest Cantors\, performing a program of\nRussian\, Israeli 
 a...
DTSTART;TZID=America/New_York:20180429T170000
DTEND;TZID=America/New_York:20180429T210000
END:VEVENT
END:VCALENDAR
