BEGIN:VCALENDAR
PRODID:-//eluceo/ical//2.0/EN
VERSION:2.0
CALSCALE:GREGORIAN
BEGIN:VEVENT
UID:c063009a6021abc18ffdf7ceff46ccc3
DTSTAMP:20260422T012947Z
SUMMARY:Freedom Song
DESCRIPTION:Jewish Federation of West-Central New Jersey\nCommunity Calenda
 r\nhttps://jfedwcnj.org/calendar/freedom-song\n\nFreedom Song \n\nOne Fam
 ily's struggle with addiction \n\nOne nation's pathway to recovery \n\n
  \n\nWednesday March 30th \n\nTemple Beth - El\, Hillsborough - 7pm \n\
 nAll Teens and Adults are invited \n\n \n\nCovid Protocols observed \n\
 n \n\nSponsored by: \n\nJewish Federation of Somerset\, Hunterdon & Warr
 en Counties \n\nHannah Luftman Foundation\, Temple Sholom \n\nAriel E. M
 alberg Memorial Fund\, Temple Beth - El\n\nJewish Family Service of Somers
 et\, Hunterdon and Warren Counties...
DTSTART;TZID=America/New_York:20220330T190000
DTEND;TZID=America/New_York:20220330T210000
END:VEVENT
END:VCALENDAR
