BEGIN:VCALENDAR
PRODID:-//eluceo/ical//2.0/EN
VERSION:2.0
CALSCALE:GREGORIAN
BEGIN:VEVENT
UID:80ae7e2a38622ee0286148d32c9f9e7a
DTSTAMP:20260422T000500Z
SUMMARY:Francine Klagsbrun Lioness Golda Meir and the Nation of Israel
DESCRIPTION:Jewish Federation of West-Central New Jersey\nCommunity Calenda
 r\nhttps://jfedwcnj.org/calendar/francine-klagsbrun-lioness-golda-meir-and
 -the-nation-of-israel\n\nFree to Community\n\n“You will never find a bet
 ter sparring person than adversity”. \n\nGolda Meir was a world leader l
 ike no other. Born in czarist Russia in 1898\, she immigrated to America i
 n 1906 and grew up in Milwaukee\, where in her early years she displayed p
 olitical consciousness. From there\, this would eventually catapult her in
 to the inner circles of Israel’s founding generation.\n\nFrancine Klagsb
 run is the author of more than a dozen books. Her writing has appeared in 
 the New...
DTSTART;TZID=America/New_York:20180422T180000
DTEND;TZID=America/New_York:20180422T200000
END:VEVENT
END:VCALENDAR
