BEGIN:VCALENDAR
PRODID:-//eluceo/ical//2.0/EN
VERSION:2.0
CALSCALE:GREGORIAN
BEGIN:VEVENT
UID:a057a8320092d4239af62169bc3d27c7
DTSTAMP:20260422T104421Z
SUMMARY:FLORENCE ADLER SWIMS FOREVER & THE LOST BOOK OF NAMES
DESCRIPTION:Jewish Federation of West-Central New Jersey\nCommunity Calenda
 r\nhttps://jfedwcnj.org/calendar/florence-adler-swims-forever--the-lost-bo
 ok-of-names-1600780831\n\nRachel Beanland\, Florence Adler Swims Forever: 
 A Novel\n\n Atlantic City\, 1934. Renting their house to summer vacationer
 s\, Esther and Joseph Adler move into the cramped apartment above their ba
 kery. Now one daughter\, Florence has returned from college to spend the s
 ummer training to swim the English Channel\, her pregnant sister\, Fannie\
 , is on bed rest and a young woman emigre from Nazi Germany has joined the
  crowded the apartment. Esther&rsquo\;s only thought is to keep her daught
 ers close and safe...
DTSTART;TZID=America/New_York:20201110T010000
DTEND;TZID=America/New_York:20201110T030000
END:VEVENT
END:VCALENDAR
