BEGIN:VCALENDAR
PRODID:-//eluceo/ical//2.0/EN
VERSION:2.0
CALSCALE:GREGORIAN
BEGIN:VEVENT
UID:66278d6b5711f5934994e5a8cd21a2c4
DTSTAMP:20260422T123805Z
SUMMARY:FJCC Film Series: Zero Motivation
DESCRIPTION:Jewish Federation of West-Central New Jersey\nCommunity Calenda
 r\nhttps://jfedwcnj.org/calendar/fjss-film-series-zero-motivation\n\nSugge
 sted donation of $5\n\nPrivate Benjamin meets M*A*S*H\, speaks Hebrew\, an
 d keeps kosher. Set in a remote desert military base\, a platoon of young 
 women soldiers\, all Israeli conscripts\, serve out their time playing com
 puter games\, singing pop songs\, and conspiring to get transferred to Te
 l Aviv - while endlessly serving coffee to the men who run the show. Here'
 s an Israeli film filled with funny\, quick-witted\, zany women who wield
  their staple guns like automatic weaponry. If there is a...
DTSTART;TZID=America/New_York:20170121T193000
DTEND;TZID=America/New_York:20170121T213000
END:VEVENT
END:VCALENDAR
