BEGIN:VCALENDAR
PRODID:-//eluceo/ical//2.0/EN
VERSION:2.0
CALSCALE:GREGORIAN
BEGIN:VEVENT
UID:831c06ee854fe0f0a0a858b4fa2162e9
DTSTAMP:20260422T005326Z
SUMMARY:FJCC Film Series: Serial (Bad) Weddings
DESCRIPTION:Jewish Federation of West-Central New Jersey\nCommunity Calenda
 r\nhttps://jfedwcnj.org/calendar/fjcc-film-series-serial-bad-weddings\n\nC
 laude Verneuil\, a Gaullist notary\, and his wife Marie\, a Catholic bour
 geois\, are parents of four daughters: Isabelle\, Odile\, Ségolè​ne\,
  and Laure. The three eldest are already married to men\, each one of a di
 fferent religion and a different ethnic origin: Isabelle married Rashid B
 en Assem\, an Algerian Muslim lawyer\, Odile married David Benishou\, a Se
 phardi Jew entrepreneur\, and ​Ségolè​ne married Chao Ling\, a Han 
 Chinese banker. The Verneuils pretend to accept their sons-in-la...
DTSTART;TZID=America/New_York:20170225T193000
DTEND;TZID=America/New_York:20170225T213000
END:VEVENT
END:VCALENDAR
