BEGIN:VCALENDAR
PRODID:-//eluceo/ical//2.0/EN
VERSION:2.0
CALSCALE:GREGORIAN
BEGIN:VEVENT
UID:86a5b3d19d52c8afb35bb63c0b1153e8
DTSTAMP:20260421T202703Z
SUMMARY:FJCC Film Series: Orchestra of Exiles
DESCRIPTION:Jewish Federation of West-Central New Jersey\nCommunity Calenda
 r\nhttps://jfedwcnj.org/calendar/fjcc-film-series-orchestra-of-exiles\n\nS
 uggested $5 donation\n\nThis film is the story of violinist Bronislaw Hub
 erman\, who\, in 1936\, selected 70 of the best Jewish musicians fired by 
 the Nazis\, and moved them to Palestine to form the future Israel Philharm
 onic\, saving them from the Holocaust. Snacks will be provided.
DTSTART;TZID=America/New_York:20160401T193000
DTEND;TZID=America/New_York:20160401T213000
END:VEVENT
END:VCALENDAR
