BEGIN:VCALENDAR
PRODID:-//eluceo/ical//2.0/EN
VERSION:2.0
CALSCALE:GREGORIAN
BEGIN:VEVENT
UID:cb6410dcdafa7bfde9cd40e055eef403
DTSTAMP:20260423T184744Z
SUMMARY:Film in Honor Of Holocaust Remembrance Day
DESCRIPTION:Jewish Federation of West-Central New Jersey\nCommunity Calenda
 r\nhttps://jfedwcnj.org/calendar/film-in-honor-of-holocaust-remembrance-da
 y\n\nIn honor of Holocaust Remembrance Day\, the Institutte for Holocaust 
 and Genocide Studies at Raritan Valley Community College will be presenti
 ng the film\, Who Will Write Our History. Join us for pizza and discussion
  after the film.
DTSTART;TZID=America/New_York:20200128T130000
DTEND;TZID=America/New_York:20200128T142000
END:VEVENT
END:VCALENDAR
