BEGIN:VCALENDAR
PRODID:-//eluceo/ical//2.0/EN
VERSION:2.0
CALSCALE:GREGORIAN
BEGIN:VEVENT
UID:fca1af4503dbf60b483180d5ddb28fdc
DTSTAMP:20260421T131210Z
SUMMARY:Film Event: The World is Funny
DESCRIPTION:Jewish Federation of West-Central New Jersey\nCommunity Calenda
 r\nhttps://jfedwcnj.org/calendar/film-event-the-world-is-funny-1538154647\
 n\nSuggested Donation is $5.00
DTSTART;TZID=America/New_York:20181110T190000
DTEND;TZID=America/New_York:20181110T210000
END:VEVENT
END:VCALENDAR
