BEGIN:VCALENDAR
PRODID:-//eluceo/ical//2.0/EN
VERSION:2.0
CALSCALE:GREGORIAN
BEGIN:VEVENT
UID:2671ba40579ec58889af37061080713a
DTSTAMP:20260421T235055Z
SUMMARY:Film Event
DESCRIPTION:Jewish Federation of West-Central New Jersey\nCommunity Calenda
 r\nhttps://jfedwcnj.org/calendar/film-event-1538076398\n\nIn the early 194
 0's\, 14 year old Pnina left her home in an agricultural village in the Ga
 lilee and disappeared. Years later she began sending letters to her family
  from her home in the West Bank. Filmmaker Hagai journeys to uncover the m
 ysteries of her great-aunt Pnina and her family in the Palestinian Territo
 ries with the help of her uncle\, a retired colonel in Israeli intelligenc
 e. The film chronicles the meeting between members of this Jewish-Arab fam
 ily over the course of three years in I...
DTSTART;TZID=America/New_York:20181013T190000
DTEND;TZID=America/New_York:20181013T210000
END:VEVENT
END:VCALENDAR
