BEGIN:VCALENDAR
PRODID:-//eluceo/ical//2.0/EN
VERSION:2.0
CALSCALE:GREGORIAN
BEGIN:VEVENT
UID:bd796a114c2229e64aae4d0d35a0a0dd
DTSTAMP:20260424T185457Z
SUMMARY:Federation Super Sunday
DESCRIPTION:Jewish Federation of West-Central New Jersey\nCommunity Calenda
 r\nhttps://jfedwcnj.org/calendar/federation-super-sunday\n\nYOUR COMMUNITY
  NEEDS YOU!!!\n\nJoin the Jewish Federation of Somerset\, Hunterdon & Warr
 en Counties on NOVEMBER 15\, 2020 for a virtual Super Sunday\,10:30am-12p
 m or 12:30pm-2pm.\n\n \n\nSuper Sunday is the largest fundraiser of the y
 ear for the Jewish Community. Your participation ensures the delivery of v
 ital services to Holocaust survivors\, seniors\, children\, adults and tho
 se with special needs\, here at home\, in Israel and around the globe.\n\n
  \n\nPlease visit Jfedshaw.org/supersunday20 t...
DTSTART;TZID=America/New_York:20201115T103000
DTEND;TZID=America/New_York:20201115T150000
END:VEVENT
END:VCALENDAR
