BEGIN:VCALENDAR
PRODID:-//eluceo/ical//2.0/EN
VERSION:2.0
CALSCALE:GREGORIAN
BEGIN:VEVENT
UID:44b22137710e8b2a0fae87a54df93884
DTSTAMP:20260422T072656Z
SUMMARY:February Jewish Federation Board Meeting
DESCRIPTION:Jewish Federation of West-Central New Jersey\nCommunity Calenda
 r\nhttps://jfedwcnj.org/calendar/february-jewish-federation-board-meeting\
 n\nFebruary Jewish Federation Board Meeting
DTSTART;TZID=America/New_York:20160216T183000
DTEND;TZID=America/New_York:20160216T210000
END:VEVENT
END:VCALENDAR
