BEGIN:VCALENDAR
PRODID:-//eluceo/ical//2.0/EN
VERSION:2.0
CALSCALE:GREGORIAN
BEGIN:VEVENT
UID:d150be6fa39db81c701531d1a9d33d05
DTSTAMP:20260420T203141Z
SUMMARY:Featuring Falafel & Israeli Short Films
DESCRIPTION:Jewish Federation of West-Central New Jersey\nCommunity Calenda
 r\nhttps://jfedwcnj.org/calendar/featuring-falafel-israeli-short-films\n\n
 Fee: $12/person advance\, $15/event day (includes falafel dinner)\n\nA Lit
 tle Bit Different- Chava\, an ultra-orthodox young woman\, called off her
  engagement a year ago. Now a new match has been suggested for her. The in
 troduction is made\, but Chava experiences a sharp disappointment. Can she
  put aside her prejudices to give love a chance to grow?\n\nFull Of Life- 
 Twelve-year-old Roni is sent by her mother to a weight-loss summer camp fo
 r fat children-the "Full of Life" camp. Roni\, who is angr...
DTSTART;TZID=America/New_York:20161117T183000
DTEND;TZID=America/New_York:20161117T203000
END:VEVENT
END:VCALENDAR
