BEGIN:VCALENDAR
PRODID:-//eluceo/ical//2.0/EN
VERSION:2.0
CALSCALE:GREGORIAN
BEGIN:VEVENT
UID:97205bdf3dfb2f608de5688a54c5a498
DTSTAMP:20260421T141822Z
SUMMARY:Fauda
DESCRIPTION:Jewish Federation of West-Central New Jersey\nCommunity Calenda
 r\nhttps://jfedwcnj.org/calendar/fauda\n\nMeet the Cast of TV Sensation Fa
 uda\n\nActor Yaakov Zada Daniel\, who plays one of the members of the elit
 e IDF anti-terror unit in the show\, and Boaz Konforty who plays Avihai\, 
 a member of the counter-terrorist unit who is always ready to jump into ac
 tion. The stars will share their experiences on the show and answer questi
 ons.\n\nApril 13\, 2021 \n\n5:30 PM\n\nVia Zoom
DTSTART;TZID=America/New_York:20210413T173000
DTEND;TZID=America/New_York:20210413T183000
END:VEVENT
END:VCALENDAR
