BEGIN:VCALENDAR
PRODID:-//eluceo/ical//2.0/EN
VERSION:2.0
CALSCALE:GREGORIAN
BEGIN:VEVENT
UID:0a605c81ad30a6f669c8a65a1e8dd0be
DTSTAMP:20260421T211847Z
SUMMARY:Farmland Ride 2021
DESCRIPTION:Jewish Federation of West-Central New Jersey\nCommunity Calenda
 r\nhttps://jfedwcnj.org/calendar/farmland-ride-2021\n\nRegister for a 15\,
  30\, or Metric Century (62) -mile ride through Hunterdon's picturesque fa
 rmlands. Start at the Flemington Jewish Community Center.  
DTSTART;TZID=America/New_York:20210613T000000
DTEND;TZID=America/New_York:20210613T235959
END:VEVENT
END:VCALENDAR
