BEGIN:VCALENDAR
PRODID:-//eluceo/ical//2.0/EN
VERSION:2.0
CALSCALE:GREGORIAN
BEGIN:VEVENT
UID:d15348ae5eed59e14002940af5356cd8
DTSTAMP:20260423T120442Z
SUMMARY:Farmland Ride
DESCRIPTION:Jewish Federation of West-Central New Jersey\nCommunity Calenda
 r\nhttps://jfedwcnj.org/calendar/farmland-ride-1648167285\n\nJoin the 5th 
 Annual Farmland Ride sponsored by the Flemington Jewish Community Center. 
  Bicycle through Hunterdon County's picturesque farmlands.  Choose from 1 
 of 3 scenic and fully supported routes: 15 miles (moderately rolling hills
 )\, 30 miles (moderately challenging) or Metric Century (62) miles (challe
 nging).  Lunch is included and catered by Blue Fish Grill.  The event will
  include the following: a) road markings\, b) cue sheets\, c) rest stops\,
  d) SAG support and e) Tech support by...
DTSTART;TZID=America/New_York:20220612T073000
DTEND;TZID=America/New_York:20220612T150000
END:VEVENT
END:VCALENDAR
