BEGIN:VCALENDAR
PRODID:-//eluceo/ical//2.0/EN
VERSION:2.0
CALSCALE:GREGORIAN
BEGIN:VEVENT
UID:aa27f644c2e91791596bbef0aa215bc9
DTSTAMP:20260422T104410Z
SUMMARY:Farmer Kobi’s Hanukkah Match with  Rabbi Ron Isaacs and Karen Ros
 toker
DESCRIPTION:Jewish Federation of West-Central New Jersey\nCommunity Calenda
 r\nhttps://jfedwcnj.org/calendar/farmer-kobis-hanukkah-match-with--rabbi-r
 on-isaacs-and-karen-rostoker-1448220419\n\nCome join Farmer Kobi and his a
 nimals for a hilarious Hanukkah dinner. Kobi&rsquo\;s well maaa-nnered goa
 ts\, donkey\,\ngeese and sheep know eggz-actly how to play host and they g
 ive Polly\, Kobi&rsquo\;s Hanukkah guest a gracious hee-haw welcome! Join 
 us for a interactive fun morning of singing and dancing as we listen to th
 e authors tell Farmer Kobi&rsquo\;s story.\n\nEvent is FREE to the Communi
 ty.  All are Welcome!!!
DTSTART;TZID=America/New_York:20151210T100000
DTEND;TZID=America/New_York:20151210T110000
END:VEVENT
END:VCALENDAR
