BEGIN:VCALENDAR
PRODID:-//eluceo/ical//2.0/EN
VERSION:2.0
CALSCALE:GREGORIAN
BEGIN:VEVENT
UID:739ee938c2cc443743ad073a36d9424e
DTSTAMP:20260423T093410Z
SUMMARY:Family Purim Party
DESCRIPTION:Jewish Federation of West-Central New Jersey\nCommunity Calenda
 r\nhttps://jfedwcnj.org/calendar/family-purim-party-1518708219\n\nActiviti
 es\, games\, and crafts for the kids.\nPurim shpiel and adult learning \nP
 ut-luck dinner for all
DTSTART;TZID=America/New_York:20180302T183000
DTEND;TZID=America/New_York:20180302T183000
END:VEVENT
END:VCALENDAR
