BEGIN:VCALENDAR
PRODID:-//eluceo/ical//2.0/EN
VERSION:2.0
CALSCALE:GREGORIAN
BEGIN:VEVENT
UID:ac266c0af896328de937d8fbbac31d6b
DTSTAMP:20260422T021449Z
SUMMARY:FAMILY PAJAMA HAVDALAH
DESCRIPTION:Jewish Federation of West-Central New Jersey\nCommunity Calenda
 r\nhttps://jfedwcnj.org/calendar/family-pajama-havdalah-1670941742\n\nJoin
  Rabbi Robert and Hazzan Brian for Havdalah\, with a story\, songs\, and a
  special bedtime prayer. In a simple multi-sensory ceremony\, with blessin
 gs over candlelight\, grape juice\, and spices\, Havdalah is an inspiring 
 way to end Shabbat and start the new week as a family and community. This 
 is geared for families with kids 8 and under and their siblings. Free and 
 open to the community!
DTSTART;TZID=America/New_York:20230107T183000
DTEND;TZID=America/New_York:20230107T193000
END:VEVENT
END:VCALENDAR
