BEGIN:VCALENDAR
PRODID:-//eluceo/ical//2.0/EN
VERSION:2.0
CALSCALE:GREGORIAN
BEGIN:VEVENT
UID:dafdbd643808ee770bd0dd09d93ab76e
DTSTAMP:20260423T184754Z
SUMMARY:Family Fun in the  Sukkah!
DESCRIPTION:Jewish Federation of West-Central New Jersey\nCommunity Calenda
 r\nhttps://jfedwcnj.org/calendar/family-fun-in-the--sukkah-1695906888\n\nF
 amily Fun in the  Sukkah!  \n﻿Tuesday\, October 3rd @ 5:30pm Pizza\, Cra
 fts\, & more!\nPlease join us for fun in the Sukkah! Come for an informal 
 celebration including crafts\, games\, pizza\, and of course shaking the L
 ulav & Etrog!  \n﻿This event is open to all families\, so invite your fr
 iends!  \nStop by for a little bit (or longer)\, it’ll be a fun way to a
 dd some Sukkot into your week! This event is FREE but please make sure to 
 RSVP so we know how much food to purchase.\nTO RSVP -...
DTSTART;TZID=America/New_York:20231003T173000
DTEND;TZID=America/New_York:20231003T183000
END:VEVENT
END:VCALENDAR
