BEGIN:VCALENDAR
PRODID:-//eluceo/ical//2.0/EN
VERSION:2.0
CALSCALE:GREGORIAN
BEGIN:VEVENT
UID:e36c4d456fedf8241fe732b4aa83b53f
DTSTAMP:20260422T195206Z
SUMMARY:Family Chanukah Shabbat Dinner
DESCRIPTION:Jewish Federation of West-Central New Jersey\nCommunity Calenda
 r\nhttps://jfedwcnj.org/calendar/family-chanukah-shabbat-dinner-1575659993
 \n\n$15/Person or $50/max/Family includes dinner Join us for a special Sha
 bbat Dinner\, where we will make Chanukah crafts\, play games and enjoy de
 licious holiday treats. We look forward to celebrating with your family!
DTSTART;TZID=America/New_York:20191213T173000
DTEND;TZID=America/New_York:20191213T193000
END:VEVENT
END:VCALENDAR
