BEGIN:VCALENDAR
PRODID:-//eluceo/ical//2.0/EN
VERSION:2.0
CALSCALE:GREGORIAN
BEGIN:VEVENT
UID:33d74dea5ffd3d896ccba66e212920b1
DTSTAMP:20260422T095313Z
SUMMARY:Family Chanukah Party
DESCRIPTION:Jewish Federation of West-Central New Jersey\nCommunity Calenda
 r\nhttps://jfedwcnj.org/calendar/family-chanukah-party-1414527011\n\nCome 
 celebrate the 3rd night of the festival of lights! Bring your Chanukiah an
 d candles as we say the blessings and light the candles. We will have Pizz
 a and Latkas\, There will be arts and crafts projects and entertainment fo
 r the kids!  All are welcome! RSVP to SHerman@ssbjcc.org $30/immediate fam
 ily $10/child or $5/adult
DTSTART;TZID=America/New_York:20141218T180000
DTEND;TZID=America/New_York:20141218T200000
END:VEVENT
END:VCALENDAR
