BEGIN:VCALENDAR
PRODID:-//eluceo/ical//2.0/EN
VERSION:2.0
CALSCALE:GREGORIAN
BEGIN:VEVENT
UID:858977def30eb4e3252db687ab99175f
DTSTAMP:20260422T100259Z
SUMMARY:Family Chanukah Palooza
DESCRIPTION:Jewish Federation of West-Central New Jersey\nCommunity Calenda
 r\nhttps://jfedwcnj.org/calendar/family-chanukah-celebration\n\nJoin us fo
 r a fun morning celebrating Chanukah!\n\n\nCrafts\nMusic\nChanukah outfit 
 contest (prizes will be awarded)\nSufganiot (donuts)\nLatkes\nDreidels\nGe
 lt\nCandle lighting and More.\n\n\nJCC Member Fee: $10/person\; Community 
 Member Fee: $15/person
DTSTART;TZID=America/New_York:20221218T100000
DTEND;TZID=America/New_York:20221218T120000
END:VEVENT
END:VCALENDAR
