BEGIN:VCALENDAR
PRODID:-//eluceo/ical//2.0/EN
VERSION:2.0
CALSCALE:GREGORIAN
BEGIN:VEVENT
UID:f6dd478e1c95853c17347f610e63a455
DTSTAMP:20260423T041518Z
SUMMARY:Fall Festival Fling: Prom for Adults with Special Needs 
DESCRIPTION:Jewish Federation of West-Central New Jersey\nCommunity Calenda
 r\nhttps://jfedwcnj.org/calendar/fall-festival-fling-prom-for-adults-with-
 special-needs-1445895389\n\nFall Harvest Fling.  The JCC and Special Olymp
 ics Somerset County invite you to attend our 2nd Annual Prom for Adults wi
 th Special Needs.  (Ages 18 and older.)  Admission Fee Includes Italian Di
 nner\, Dessert\, Soft Drinks\, Dancing and Fun!\n
DTSTART;TZID=America/New_York:20151121T070000
DTEND;TZID=America/New_York:20151121T220000
END:VEVENT
END:VCALENDAR
