BEGIN:VCALENDAR
PRODID:-//eluceo/ical//2.0/EN
VERSION:2.0
CALSCALE:GREGORIAN
BEGIN:VEVENT
UID:9a9b8bafda564fb35e62dd04c8a80258
DTSTAMP:20260421T235246Z
SUMMARY:Fall Family Shabbat Dinner
DESCRIPTION:Jewish Federation of West-Central New Jersey\nCommunity Calenda
 r\nhttps://jfedwcnj.org/calendar/fall-family-shabbat-dinner-1444919369\n\n
 Let's kick of the Fall Season with a "Friday Night Lights" Shabbat Dinner.
  Join your JCC friends and family for a delicious Shabbat dinner. We will 
 enjoy a craft\, PJ Library story\, dinner and fun!! (Menu details to come)
 .
DTSTART;TZID=America/New_York:20151016T060000
DTEND;TZID=America/New_York:20151016T080000
END:VEVENT
END:VCALENDAR
