BEGIN:VCALENDAR
PRODID:-//eluceo/ical//2.0/EN
VERSION:2.0
CALSCALE:GREGORIAN
BEGIN:VEVENT
UID:bdf2dd43348a21a75ff4af8f9231d3a8
DTSTAMP:20260423T065203Z
SUMMARY:Explore the World with Us & Our Partner Agency JDC
DESCRIPTION:Jewish Federation of West-Central New Jersey\nCommunity Calenda
 r\nhttps://jfedwcnj.org/calendar/explore-the-world-with-us-our-partner-age
 ncy-jdc\n\nExplore the World with Us & Our Partner Agency JDC—\n\nThe G
 lobal Jewish 9-1-1\n\n \n\n \n\nFrom Caracas to Kyiv\, JDC answers the c
 all.\n\nHear how they do it & how you’re helping.\n\n \n\nFeaturing Int
 ernational Cuisine\, Cocktails\, & Inspiring Stories.\n\n \n\nApril 11\, 
 2024 \n\n7:00 PM \n\n775 Talamini Road\, Bridgewater\, NJ \n\nCouvert: 
 $75 \n\nCouvert with Donation: \n\nSilver Donation: $118 \n\nGold Donat
 ion: $218 \n\n \n\nQuestions please contact Lauren Edelman  at 908....
DTSTART;TZID=America/New_York:20240411T190000
DTEND;TZID=America/New_York:20240411T210000
END:VEVENT
END:VCALENDAR
