BEGIN:VCALENDAR
PRODID:-//eluceo/ical//2.0/EN
VERSION:2.0
CALSCALE:GREGORIAN
BEGIN:VEVENT
UID:db797de828c3338311b47e27c0262f11
DTSTAMP:20260421T215810Z
SUMMARY:Exile: Music of the Early-Modern Jewish Diaspora
DESCRIPTION:Jewish Federation of West-Central New Jersey\nCommunity Calenda
 r\nhttps://jfedwcnj.org/calendar/exile-music-of-the-early-modern-jewish-di
 aspora-1579713584\n\nPresented by Mason Gross School of the Arts\n\n"Exile
 " is a concert with spoken commentary that explores Jewish musical culture
  in early modern Europe and its encounters with other traditions. Featurin
 g the period-instrument ensemble Incantare in conjunction with Professor R
 ebecca Cypess\, Department of Music\, the program sheds light on the power
 ful role played by Jews in musical life during this volatile period.\n\nFr
 ee and open to the public. No RSVP necessary. Parking registration links o
 n ...
DTSTART;TZID=America/New_York:20200325T193000
DTEND;TZID=America/New_York:20200325T213000
END:VEVENT
END:VCALENDAR
